BEGIN:VCALENDAR
VERSION:2.0
PRODID:-//Peace Community Church - ECPv6.15.20//NONSGML v1.0//EN
CALSCALE:GREGORIAN
METHOD:PUBLISH
X-ORIGINAL-URL:https://pcciworld.org
X-WR-CALDESC:Events for Peace Community Church
REFRESH-INTERVAL;VALUE=DURATION:PT1H
X-Robots-Tag:noindex
X-PUBLISHED-TTL:PT1H
BEGIN:VTIMEZONE
TZID:America/Los_Angeles
BEGIN:DAYLIGHT
TZOFFSETFROM:-0800
TZOFFSETTO:-0700
TZNAME:PDT
DTSTART:20250309T100000
END:DAYLIGHT
BEGIN:STANDARD
TZOFFSETFROM:-0700
TZOFFSETTO:-0800
TZNAME:PST
DTSTART:20251102T090000
END:STANDARD
BEGIN:DAYLIGHT
TZOFFSETFROM:-0800
TZOFFSETTO:-0700
TZNAME:PDT
DTSTART:20260308T100000
END:DAYLIGHT
BEGIN:STANDARD
TZOFFSETFROM:-0700
TZOFFSETTO:-0800
TZNAME:PST
DTSTART:20261101T090000
END:STANDARD
BEGIN:DAYLIGHT
TZOFFSETFROM:-0800
TZOFFSETTO:-0700
TZNAME:PDT
DTSTART:20270314T100000
END:DAYLIGHT
BEGIN:STANDARD
TZOFFSETFROM:-0700
TZOFFSETTO:-0800
TZNAME:PST
DTSTART:20271107T090000
END:STANDARD
END:VTIMEZONE
BEGIN:VTIMEZONE
TZID:America/New_York
BEGIN:DAYLIGHT
TZOFFSETFROM:-0500
TZOFFSETTO:-0400
TZNAME:EDT
DTSTART:20230312T070000
END:DAYLIGHT
BEGIN:STANDARD
TZOFFSETFROM:-0400
TZOFFSETTO:-0500
TZNAME:EST
DTSTART:20231105T060000
END:STANDARD
BEGIN:DAYLIGHT
TZOFFSETFROM:-0500
TZOFFSETTO:-0400
TZNAME:EDT
DTSTART:20240310T070000
END:DAYLIGHT
BEGIN:STANDARD
TZOFFSETFROM:-0400
TZOFFSETTO:-0500
TZNAME:EST
DTSTART:20241103T060000
END:STANDARD
BEGIN:DAYLIGHT
TZOFFSETFROM:-0500
TZOFFSETTO:-0400
TZNAME:EDT
DTSTART:20250309T070000
END:DAYLIGHT
BEGIN:STANDARD
TZOFFSETFROM:-0400
TZOFFSETTO:-0500
TZNAME:EST
DTSTART:20251102T060000
END:STANDARD
BEGIN:DAYLIGHT
TZOFFSETFROM:-0500
TZOFFSETTO:-0400
TZNAME:EDT
DTSTART:20260308T070000
END:DAYLIGHT
BEGIN:STANDARD
TZOFFSETFROM:-0400
TZOFFSETTO:-0500
TZNAME:EST
DTSTART:20261101T060000
END:STANDARD
END:VTIMEZONE
BEGIN:VTIMEZONE
TZID:America/Chicago
BEGIN:DAYLIGHT
TZOFFSETFROM:-0600
TZOFFSETTO:-0500
TZNAME:CDT
DTSTART:20230312T080000
END:DAYLIGHT
BEGIN:STANDARD
TZOFFSETFROM:-0500
TZOFFSETTO:-0600
TZNAME:CST
DTSTART:20231105T070000
END:STANDARD
BEGIN:DAYLIGHT
TZOFFSETFROM:-0600
TZOFFSETTO:-0500
TZNAME:CDT
DTSTART:20240310T080000
END:DAYLIGHT
BEGIN:STANDARD
TZOFFSETFROM:-0500
TZOFFSETTO:-0600
TZNAME:CST
DTSTART:20241103T070000
END:STANDARD
BEGIN:DAYLIGHT
TZOFFSETFROM:-0600
TZOFFSETTO:-0500
TZNAME:CDT
DTSTART:20250309T080000
END:DAYLIGHT
BEGIN:STANDARD
TZOFFSETFROM:-0500
TZOFFSETTO:-0600
TZNAME:CST
DTSTART:20251102T070000
END:STANDARD
END:VTIMEZONE
BEGIN:VEVENT
DTSTART;TZID=America/Los_Angeles:20260206T160000
DTEND;TZID=America/Los_Angeles:20260209T180000
DTSTAMP:20260424T161428
CREATED:20260113T220746Z
LAST-MODIFIED:20260115T232226Z
UID:39329-1770393600-1770660000@pcciworld.org
SUMMARY:Annual Retreat: Las Vegas Center
DESCRIPTION:Theme: Being the Light: The Power of Healing \nWe are the light\, here now on planet Earth for a special spiritual purpose. Each of us is evolving on a planet that has cycled through periods of light (spiritual enlightenment) and darkness (loss of alignment with spiritual reality). PCC Founder Dr. Francisco Coll shared that around 4\,000 years ago Moses brought the LAW; more than 2\,000 years ago Jesus brought the LOVE; and now 2\,000 years later we are here to BALANCE them in ourselves and be an example of the light that is a healing force. \nThis special annual retreat will give you opportunity to explore your inner light\, your unique purpose; and to find greater balance in the polarities of masculine & feminine\, your feeling & intellectual natures\, the four churches\, and your spiritual roots in history and pre-history. \n \nClick here for more details. \n 
URL:https://pcciworld.org/event/annual-retreat-las-vegas-center/
LOCATION:Las Vegas Conference Center\, 5500 S. Eastern Ave.\, Las Vegas\, NV\, 89119\, United States
CATEGORIES:Programs
ATTACH;FMTTYPE=image/png:https://pcciworld.org/wp-content/uploads/2025/04/Being-in-the-Light.png
END:VEVENT
BEGIN:VEVENT
DTSTART;TZID=America/New_York:20251206T160000
DTEND;TZID=America/New_York:20251206T190000
DTSTAMP:20260424T161428
CREATED:20251107T200824Z
LAST-MODIFIED:20251110T172346Z
UID:6412-1765036800-1765047600@pcciworld.org
SUMMARY:Course 699: Discipline: The Reverence To Be
DESCRIPTION:In this course you will gain an understanding of the game of Planet Earth and of your purpose for being here on the planet. \n\nYou will see the importance of doing the best we know how\, for reaching an inner balance\, and observe how we need to define our own discipline in order to live our own life and still play the game.\nYou will gain insights into the purpose of all religions and living a simple\, fulfilling life.\nYou will gain insights into a false sense of prestige that hinders out spiritual expansion.\nYou will obtain a new outlook into the meaning of prayer.\n\nFee is $60\n$1000 Donation Contributors receive a 50% discount\n\nPre-req: 1001 Gifts & Guidance Profile \n\nRegister Here
URL:https://pcciworld.org/event/course-699-discipline-the-reverence-to-be/
LOCATION:Online With ZOOM\, United States
CATEGORIES:Programs
ATTACH;FMTTYPE=image/jpeg:https://pcciworld.org/wp-content/uploads/2025/08/book-love2.jpg
END:VEVENT
BEGIN:VEVENT
DTSTART;TZID=America/New_York:20250531T160000
DTEND;TZID=America/New_York:20250531T213000
DTSTAMP:20260424T161428
CREATED:20250429T172813Z
LAST-MODIFIED:20250429T181134Z
UID:1014-1748707200-1748727000@pcciworld.org
SUMMARY:Course 606: Speaking & Writing by Guidance
DESCRIPTION:We have a need to express our feelings\, consolidate our experiences and to share our creativity. This course will help you open to the inspiration of your spiritual guidance. You will: \n1. Learn more about communicating with your spiritual helpers and discover how easy it can be.\n2. Gain deeper understandings of how you receive inspiration from your guidance through using your first gift.\n4. Through a special technique\, you can also learn to have your spiritual helpers speak through you to gain wisdom and inspiration.\n5. You will know each of your helpers on an individual basis. Through techniques you will learn how each guide helps you with your life purpose. \nWhen: Saturday\, May 31st\, 4:00 – 9:30 pm ET\nPre-requisites: Have experienced 1001 Gifts and Guidance Profile\nWhere: online \nFee: \n\nRegular: $100\n$1000 PCCI donor: $50\n$500 PCCI donor: $75\n$100 PCCI donor: $90
URL:https://pcciworld.org/event/course-606/
LOCATION:Online With ZOOM\, United States
CATEGORIES:Programs
ATTACH;FMTTYPE=image/jpeg:https://pcciworld.org/wp-content/uploads/2025/04/sr-guidance-mailchimp.jpg
END:VEVENT
BEGIN:VEVENT
DTSTART;TZID=America/New_York:20250329T130000
DTEND;TZID=America/New_York:20250329T180000
DTSTAMP:20260424T161428
CREATED:20250305T004724Z
LAST-MODIFIED:20250321T171223Z
UID:984-1743253200-1743271200@pcciworld.org
SUMMARY:Course 563: Accomplishment Through Personal Initiative
DESCRIPTION:In this course you will unfold the wisdom you have gathered together through eons of time.\nYou will learn how “moving in” and “moving out” to accomplish will earn you success\, fulfillment\, abundance and a consistently high\, positive energy.\nYou will unfold your personal leadership in the areas of delegating\, initiative and patience.\nYou will learn to discern your true feelings from those of others and begin to live by the Golden Rule of the peace lover\, “Live and let live.”\n\nWhen: Saturday\, March 29\, 2025\, 1 – 6 pm ET\nPre-requisites: Have experienced 1001\, 1002-A\, and 1003-A profiles\nWhere: online\nFee: $80 (normally $100)
URL:https://pcciworld.org/event/course-563-accomplishment-through-personal-initiative/
LOCATION:Online With ZOOM\, United States
CATEGORIES:Programs
ATTACH;FMTTYPE=image/png:https://pcciworld.org/wp-content/uploads/2025/03/pcci-tom-course.png
END:VEVENT
BEGIN:VEVENT
DTSTART;TZID=America/New_York:20250223T140000
DTEND;TZID=America/New_York:20250223T173000
DTSTAMP:20260424T161428
CREATED:20240918T204958Z
LAST-MODIFIED:20250208T175134Z
UID:567-1740319200-1740331800@pcciworld.org
SUMMARY:Circle of Love Fellowship Workshop
DESCRIPTION:In this 3.5- hour technique workshop you will experience in depth a program that helps you get in touch with your true nature. \nLearn a simple way to cleanse yourself spiritually. This cleansing will help you realize that you can keep your energy positive at all times and that you can tune into the highest energy of the universe. \nExperience without fear\, the reality of the spirit world through a designed method. \nLearn about your spiritual gifts and how you can unfold them without pressure. \nFeel free and comfortable sharing your true feelings in the gentle\, healing vibration of Peace Community Church International (PCCI). \nPEACE COMMUNITY CHURCH INTERNATIONAL\nSunday\, February 23nd\n2:00 – 5:30 Eastern Time Zone\nInvestment: $45.00 USD \nRegister Here \n\n\n                \n                        Name(Required)\n                            \n                            \n                                                    \n                                                    First\n                                                \n                            \n                            \n                                                    \n                                                    Last\n                                                \n                            \n                        Email(Required)\n                            \n                        CityState - Two LetterWorkshop\n					\n					\n						Price:\n						\n					\n					\n				Payment MethodPayPal CheckoutCredit Card\n                                    MasterCardVisaSupported Credit Cards: MasterCard\, Visa\n                                    \n                                    Card Number\n                                 \n                                            \n                                                \n                                                Expiration Date\n                                            \n                                                \n                                                 \n                                                Security Code\n                                             \n                                        \n                                            \n                                            Cardholder Name
URL:https://pcciworld.org/event/circle-of-love-fellowship-workshop-2/
LOCATION:Online With ZOOM\, United States
CATEGORIES:Programs
ATTACH;FMTTYPE=image/jpeg:https://pcciworld.org/wp-content/uploads/2024/09/people-group-coaching2.jpg
END:VEVENT
BEGIN:VEVENT
DTSTART;TZID=America/New_York:20250220T220000
DTEND;TZID=America/New_York:20250220T233000
DTSTAMP:20260424T161428
CREATED:20250130T173449Z
LAST-MODIFIED:20250208T175205Z
UID:701-1740088800-1740094200@pcciworld.org
SUMMARY:Gateway to Your Spiritual Reality 10PM
DESCRIPTION:The 1st Step toward experiencing the Peace That Passes Understanding. \nResolve the inner conflict between what you feel is truth for you and what you have been taught to believe. \nThis 90 min. program clarifies how the concepts and beliefs of those who raised you may have taught you to look for your answers outside yourself rather than within. \nLearn how a lack of consideration for your inner direction affected your spiritual growth through your first 3 Seven-Year cycles of life and begin healing yourself from the inside out. \nReawaken your oneness with all things and people. \nPEACE COMMUNITY CHURCH INTERNATIONAL \nThursday\, Feb 20th\, 2025\n10:00 pm Eastern\nInvestment: $15.00 USD \nRegister Here \n\n                \n                        Orientation Class: Select Your Day & TimeFeb 20\, 2:00 pm EasternFeb 20\, 7:00 pm EasternFeb 20\, 10:00 pm EasternName(Required)\n                            \n                            \n                                                    \n                                                    First\n                                                \n                            \n                            \n                                                    \n                                                    Last\n                                                \n                            \n                        Email(Required)\n                            \n                        CityState - Two LetterPayment MethodPayPal CheckoutCredit Card\n                                    American ExpressDiscoverMasterCardVisaSupported Credit Cards: American Express\, Discover\, MasterCard\, Visa\n                                    \n                                    Card Number\n                                 \n                                            \n                                                \n                                                Expiration Date\n                                            \n                                                \n                                                 \n                                                Security Code\n                                             \n                                        \n                                            \n                                            Cardholder Name
URL:https://pcciworld.org/event/gateway-to-your-spiritual-reality10/
LOCATION:Online With ZOOM\, United States
CATEGORIES:Programs
ATTACH;FMTTYPE=image/png:https://pcciworld.org/wp-content/uploads/2024/09/Picture1.png
END:VEVENT
BEGIN:VEVENT
DTSTART;TZID=America/New_York:20250218T220000
DTEND;TZID=America/New_York:20250218T230000
DTSTAMP:20260424T161428
CREATED:20250130T172008Z
LAST-MODIFIED:20250207T153814Z
UID:692-1739916000-1739919600@pcciworld.org
SUMMARY:Deeper Connection with the Angels in Your Life: 10 pm
DESCRIPTION:Join this one-hour free online class to: \n\nExplore the role of angels\, spirit guides\, master souls and helpers in your life\nExperience how you can tap into this ever-present resource\nDiscover how spiritual helpers communicate\nLearn how you can more consciously fellowship with your angels/guides\nEmbrace angelic wisdom to master your energy\nAwaken the real you\, the good\, kind\, loving presence that you are.\n\nThis interactive program is designed to create a sacred space for relaxation\, support and inner security.\nRegister Here
URL:https://pcciworld.org/event/angels-in-your-life10/
LOCATION:Online With ZOOM\, United States
CATEGORIES:Programs
ATTACH;FMTTYPE=image/jpeg:https://pcciworld.org/wp-content/uploads/2024/11/PCCI-Free-Dec-2024-flyer.jpg
END:VEVENT
BEGIN:VEVENT
DTSTART;TZID=America/New_York:20250218T140000
DTEND;TZID=America/New_York:20250218T150000
DTSTAMP:20260424T161428
CREATED:20241115T170913Z
LAST-MODIFIED:20250207T153140Z
UID:635-1739887200-1739890800@pcciworld.org
SUMMARY:Deeper Connection with the Angels in Your Life: 2 pm
DESCRIPTION:Join this one-hour free online class to: \n\nExplore the role of angels\, spirit guides\, master souls and helpers in your life\nExperience how you can tap into this ever-present resource\nDiscover how spiritual helpers communicate\nLearn how you can more consciously fellowship with your angels/guides\nEmbrace angelic wisdom to master your energy\nAwaken the real you\, the good\, kind\, loving presence that you are.\n\nThis interactive program is designed to create a sacred space for relaxation\, support and inner security.\nRegister Here
URL:https://pcciworld.org/event/angels-in-your-life2/
LOCATION:Online With ZOOM\, United States
CATEGORIES:Programs
ATTACH;FMTTYPE=image/jpeg:https://pcciworld.org/wp-content/uploads/2024/11/PCCI-Free-Dec-2024-flyer.jpg
END:VEVENT
BEGIN:VEVENT
DTSTART;TZID=America/New_York:20241203T220000
DTEND;TZID=America/New_York:20241203T230000
DTSTAMP:20260424T161428
CREATED:20241115T174534Z
LAST-MODIFIED:20241117T162827Z
UID:638-1733263200-1733266800@pcciworld.org
SUMMARY:Angels in Your Life - 10pm
DESCRIPTION:Join this one-hour free online class to: \n\nExplore the role of angels\, spirit guides\, master souls and helpers in your life\nExperience how you can tap into this ever-present resource\nDiscover how spiritual helpers communicate\nLearn how you can more consciously fellowship with your angels/guides\nEmbrace angelic wisdom to master your energy\nAwaken the real you\, the good\, kind\, loving presence that you are.\n\nThis interactive program is designed to create a sacred space for relaxation\, support and inner security. \n\nRegister to receive the Zoom link to attend:
URL:https://pcciworld.org/event/angels-in-your-life-2/
LOCATION:Online With ZOOM\, United States
CATEGORIES:Programs
ATTACH;FMTTYPE=image/jpeg:https://pcciworld.org/wp-content/uploads/2024/11/PCCI-Free-Dec-2024-flyer.jpg
END:VEVENT
BEGIN:VEVENT
DTSTART;TZID=America/Chicago:20241109T143000
DTEND;TZID=America/Chicago:20241109T170000
DTSTAMP:20260424T161428
CREATED:20240918T203530Z
LAST-MODIFIED:20241025T150328Z
UID:557-1731162600-1731171600@pcciworld.org
SUMMARY:Circle of Love Fellowship Workshop
DESCRIPTION:Experiential workshop of techniques and sharing. \nWho am I?\nWhere did I come from?\nWhat is the meaning and purpose of my life on Earth?\nWhere do I go when I pass on? \n\n                \n                        Name(Required)\n                            \n                            \n                                                    \n                                                    First\n                                                \n                            \n                            \n                                                    \n                                                    Last\n                                                \n                            \n                        Email(Required)\n                            \n                        CityState - Two LetterWorkshop\n					\n					\n						Price:\n						\n					\n					\n				Payment MethodPayPal CheckoutCredit Card\n                                    MasterCardVisaSupported Credit Cards: MasterCard\, Visa\n                                    \n                                    Card Number\n                                 \n                                            \n                                                \n                                                Expiration Date\n                                            \n                                                \n                                                 \n                                                Security Code\n                                             \n                                        \n                                            \n                                            Cardholder Name
URL:https://pcciworld.org/event/circle-of-love-fellowship-workshop/
LOCATION:Online With ZOOM\, United States
CATEGORIES:Programs
ATTACH;FMTTYPE=image/jpeg:https://pcciworld.org/wp-content/uploads/2024/09/people-group-coaching2.jpg
END:VEVENT
BEGIN:VEVENT
DTSTART;TZID=America/New_York:20241102T160000
DTEND;TZID=America/New_York:20241102T173000
DTSTAMP:20260424T161428
CREATED:20240923T160052Z
LAST-MODIFIED:20241026T180155Z
UID:587-1730563200-1730568600@pcciworld.org
SUMMARY:Peace Community Church® Orientation Class
DESCRIPTION:This transformational 90-minute program gives you the foundation you need to maximize your journey of self-discovery. You will be reintroduced to the knowledge you already have within you. \n\nWho you are\, where you came from\, why you are here\, and where you go when you pass on.\nThe balance of thought and feeling and the levels of consciousness?\nYour spiritual helpers (aka angels) and your four spiritual gifts?\nWhere do I go when I pass on?\n\nRegister Here \n\n                \n                        Orientation Class: Select Your Day & TimeFeb 20\, 2:00 pm EasternFeb 20\, 7:00 pm EasternFeb 20\, 10:00 pm EasternName(Required)\n                            \n                            \n                                                    \n                                                    First\n                                                \n                            \n                            \n                                                    \n                                                    Last\n                                                \n                            \n                        Email(Required)\n                            \n                        CityState - Two LetterPayment MethodPayPal CheckoutCredit Card\n                                    American ExpressDiscoverMasterCardVisaSupported Credit Cards: American Express\, Discover\, MasterCard\, Visa\n                                    \n                                    Card Number\n                                 \n                                            \n                                                \n                                                Expiration Date\n                                            \n                                                \n                                                 \n                                                Security Code\n                                             \n                                        \n                                            \n                                            Cardholder Name
URL:https://pcciworld.org/event/peace-community-church-orientation-class-4/
LOCATION:Online With ZOOM\, United States
CATEGORIES:Programs
ATTACH;FMTTYPE=image/png:https://pcciworld.org/wp-content/uploads/2024/08/pcc-intro-chart2.png
END:VEVENT
BEGIN:VEVENT
DTSTART;TZID=America/New_York:20241029T190000
DTEND;TZID=America/New_York:20241029T200000
DTSTAMP:20260424T161428
CREATED:20240923T161515Z
LAST-MODIFIED:20241020T181029Z
UID:596-1730228400-1730232000@pcciworld.org
SUMMARY:Discover Your Innate Healing Abilities: 7:00 pm
DESCRIPTION:Free Inter-active one hour Spiritual Class. Registration is required to receive zoom link to attend:\nLearn to be more in control of your health and wellness through spiritual healing. \n\nLearn to be more in control of your health and wellness through spiritual healing\nBecome aware of aspects of spiritual healing that you can implement in your own life.\nUsing intent and goal setting to create your ideal health and well being.\nThis interactive program is designed to create a sacred space for relaxation\, support and inner security.\n\nThis one-hour free online presentation will be facilitated by Ordained Ministers affiliated with Peace Community Church International\, a Church without walls or dogma.\nRegister Here
URL:https://pcciworld.org/event/discover-your-innate-healing-abilities1/
LOCATION:Online With ZOOM\, United States
CATEGORIES:Programs
ATTACH;FMTTYPE=image/jpeg:https://pcciworld.org/wp-content/uploads/2024/09/Discover-Your-Innate-Healing-Power-PCCI-Free-Class.jpg
END:VEVENT
BEGIN:VEVENT
DTSTART;TZID=America/New_York:20241001T210000
DTEND;TZID=America/New_York:20241001T220000
DTSTAMP:20260424T161428
CREATED:20240923T155959Z
LAST-MODIFIED:20241013T161425Z
UID:584-1727816400-1727820000@pcciworld.org
SUMMARY:Expanding Your Christ Consciousness Within
DESCRIPTION:Free Inter-active one hour Spiritual Class. Registration is required to receive zoom link to attend: Click here or contact: info@pcciworld.org by Sept. 30\, 2024 Presenters: Rev Sharon Johnson and Rev Kathleen Ellis. \n\nLEARN HOW TO MAKE THE CHRIST CONSCIOUSNESS A WAY OF LIFE\nGAIN INNER SECURITY FROM YOUR AWARENESS OF YOUR CHRIST CONSCIOUSNESS WITHIN\nCAPTURE AN INNER PEACE THAT SURPASSES UNDERSTANDING\n“CREATE IN ME A PURE HEART\, O GOD\, AND RENEW A STEADFAST SPIRIT WITHIN ME.” PSALM 51:10
URL:https://pcciworld.org/event/expanding-your-christ-consciousness-within/
LOCATION:Online With ZOOM\, United States
CATEGORIES:Programs
ATTACH;FMTTYPE=image/jpeg:https://pcciworld.org/wp-content/uploads/2024/09/people-woman-canera2.jpg
END:VEVENT
END:VCALENDAR